BEGIN:VCALENDAR
VERSION:2.0
PRODID:-//wp-events-plugin.com//6.4.5.1//EN
TZID:Europe/Berlin
X-WR-TIMEZONE:Europe/Berlin
BEGIN:VEVENT
UID:218@sommermusik.com
DTSTART;TZID=Europe/Berlin;VALUE=DATE:20261024
DTEND;TZID=Europe/Berlin;VALUE=DATE:20261101
DTSTAMP:20260307T123953Z
URL:https://www.sommermusik.com/termine/band-experience-3-26/
SUMMARY:Band Experience [Band-Workshop]
DESCRIPTION:Dieser Kurs ist für alle Instrumente geeignet. Eure Band Coach
 es sind Réka\, Andi Bühler und Tobi Fleischer. LEIDER SCHON AUSGEBUCHT!
ATTACH;FMTTYPE=image/jpeg:https://www.sommermusik.com/wp-content/uploads/2
 021/03/band_experience.jpg
CATEGORIES:Andi,Réka,Tobi
END:VEVENT
BEGIN:VTIMEZONE
TZID:Europe/Berlin
X-LIC-LOCATION:Europe/Berlin
BEGIN:DAYLIGHT
DTSTART:20260329T030000
TZOFFSETFROM:+0100
TZOFFSETTO:+0200
TZNAME:CEST
END:DAYLIGHT
BEGIN:STANDARD
DTSTART:20261025T020000
TZOFFSETFROM:+0200
TZOFFSETTO:+0100
TZNAME:CET
END:STANDARD
END:VTIMEZONE
END:VCALENDAR