BEGIN:VCALENDAR
VERSION:2.0
PRODID:-//wp-events-plugin.com//6.4.5.1//EN
TZID:Europe/Berlin
X-WR-TIMEZONE:Europe/Berlin
BEGIN:VEVENT
UID:206@sommermusik.com
DTSTART;TZID=Europe/Berlin;VALUE=DATE:20260627
DTEND;TZID=Europe/Berlin;VALUE=DATE:20260705
DTSTAMP:20251003T091312Z
URL:https://www.sommermusik.com/termine/gesang-intensiv-1-26/
SUMMARY:Gesang Intensiv [Gesangsworkshop]
DESCRIPTION:Dieser Kurs richtet sich an Sänger und Sängerinnen mit Vorken
 ntnissen. Eure Dozentin ist Réka.
ATTACH;FMTTYPE=image/jpeg:https://www.sommermusik.com/wp-content/uploads/2
 021/03/gesang_intensiv.jpg
CATEGORIES:Réka
END:VEVENT
BEGIN:VTIMEZONE
TZID:Europe/Berlin
X-LIC-LOCATION:Europe/Berlin
BEGIN:DAYLIGHT
DTSTART:20260329T030000
TZOFFSETFROM:+0100
TZOFFSETTO:+0200
TZNAME:CEST
END:DAYLIGHT
END:VTIMEZONE
END:VCALENDAR