BEGIN:VCALENDAR
VERSION:2.0
PRODID:-//wp-events-plugin.com//6.4.5.1//EN
TZID:Europe/Berlin
X-WR-TIMEZONE:Europe/Berlin
BEGIN:VEVENT
UID:203@sommermusik.com
DTSTART;TZID=Europe/Berlin;VALUE=DATE:20260502
DTEND;TZID=Europe/Berlin;VALUE=DATE:20260510
DTSTAMP:20251003T091341Z
URL:https://www.sommermusik.com/termine/gitarre-intensiv-1-26/
SUMMARY:Gitarre Intensiv [Gitarren-Workshop]
DESCRIPTION:Dieser Kurs richtet sich an Gitarristinnen und Gitarristen mit 
 etwas Vorerfahrung. Euer Dozent ist Takashi Peterson.
ATTACH;FMTTYPE=image/jpeg:https://www.sommermusik.com/wp-content/uploads/2
 021/03/gitarre_intensiv.jpg
CATEGORIES:Takashi
END:VEVENT
BEGIN:VTIMEZONE
TZID:Europe/Berlin
X-LIC-LOCATION:Europe/Berlin
BEGIN:DAYLIGHT
DTSTART:20260329T030000
TZOFFSETFROM:+0100
TZOFFSETTO:+0200
TZNAME:CEST
END:DAYLIGHT
END:VTIMEZONE
END:VCALENDAR